BEGIN:VCALENDAR
VERSION:2.0
PRODID:-//Contratero//ES
CALSCALE:GREGORIAN
METHOD:PUBLISH
BEGIN:VEVENT
UID:E-EXP 51/2020@contratero.es
DTSTAMP:20260420T050845Z
DTSTART:20220217T235959
DTEND:20220218T005959
SUMMARY:Cierre: Servicios de Plataforma Tecnologías de la Informac
DESCRIPTION:Servicios de Plataforma Tecnologías de la Información y las Comunicaciones (TIC) del Ayuntamiento de Alcobendas y sus Organismos Autónomos.\\n\\nOrganismo: Junta de Gobierno del Ayuntamiento de Alcobendas\\n\\nVer en Contratero: https://contratero.es/contracts/E-EXP 51/2020
URL:https://contratero.es/contracts/E-EXP 51/2020
STATUS:CONFIRMED
BEGIN:VALARM
TRIGGER:-P1D
ACTION:DISPLAY
DESCRIPTION:Recordatorio: Servicios de Plataforma Tecnol
END:VALARM
END:VEVENT
END:VCALENDAR